{
 "currentVersion": 11.1,
 "cimVersion": "3.1.0",
 "serviceDescription": "The National Agriculture Imagery Program (NAIP) acquires aerial imagery during the agricultural growing seasons in the continental U.S. A primary goal of the NAIP program is to make digital ortho photography available to governmental agencies and the public within a year of acquisition. This four-band imagery was collected in late 2014, and was originally published in December of 2014 . It was made available from the West Virginia GIS Tech Center in February of 2015. \n\nAll data was delivered with 1-meter Ground Sample Distance (GSD). The imagery is rectified to a horizontal accuracy of within +/- 5 meters of reference digital ortho quarter quads from the National Digital Ortho Program. \n\nThe dataset can be downloaded by digital orthophoto quarter quads (DOQQ) and counties. DOQQs are available in .sid and .jp2 format. MrSid format data is compressed ratio of 10:1 . Files range from 13 to 16 MB. MrSid format images are 3 band and, as a result a separate dataset for color infrared and natural color was created. Additionally, JPEG 2000 format 4 band imagery is available. These files range from 20-25 MB. County mosaics can be downloaded in natural color .sid format. These files are approximately 600 MB each\n\nUncompressed 4 band .tif files are available as well, but due to the size (~320 GB) of this dataset, interested parties will need to provide a hard drive to the WVGISTC. There is a small fee associated with this service. Contact Frank Lafone for more information.\nhttp://wvgis.wvu.edu/data/dataset.php?ID=469",
 "mapName": "wv_imagery_NAIP_2014_1m",
 "description": "The National Agriculture Imagery Program (NAIP) acquires aerial imagery during the agricultural growing seasons in the continental U.S. A primary goal of the NAIP program is to make digital ortho photography available to governmental agencies and the public within a year of acquisition. This four-band imagery was collected in late 2014, and was originally published in December of 2014 . It was made available from the West Virginia GIS Tech Center in February of 2015. \n\nAll data was delivered with 1-meter Ground Sample Distance (GSD). The imagery is rectified to a horizontal accuracy of within +/- 5 meters of reference digital ortho quarter quads from the National Digital Ortho Program. \n\nThe dataset can be downloaded by digital orthophoto quarter quads (DOQQ) and counties. DOQQs are available in .sid and .jp2 format. MrSid format data is compressed ratio of 10:1 . Files range from 13 to 16 MB. MrSid format images are 3 band and, as a result a separate dataset for color infrared and natural color was created. Additionally, JPEG 2000 format 4 band imagery is available. These files range from 20-25 MB. County mosaics can be downloaded in natural color .sid format. These files are approximately 600 MB each\n\nUncompressed 4 band .tif files are available as well, but due to the size (~320 GB) of this dataset, interested parties will need to provide a hard drive to the WVGISTC. There is a small fee associated with this service. Contact Frank Lafone for more information.\nhttp://wvgis.wvu.edu/data/dataset.php?ID=469",
 "copyrightText": "",
 "supportsDynamicLayers": true,
 "layers": [
  {
   "id": 0,
   "name": "wv_naip_2014_wm_1m",
   "parentLayerId": -1,
   "defaultVisibility": true,
   "subLayerIds": [
    1,
    2,
    3
   ],
   "minScale": 0,
   "maxScale": 0,
   "type": "Mosaic Layer",
   "supportsDynamicLegends": false
  },
  {
   "id": 1,
   "name": "Boundary",
   "parentLayerId": 0,
   "defaultVisibility": false,
   "subLayerIds": null,
   "minScale": 0,
   "maxScale": 0,
   "type": "Feature Layer",
   "geometryType": "esriGeometryPolygon",
   "supportsDynamicLegends": true
  },
  {
   "id": 2,
   "name": "Footprint",
   "parentLayerId": 0,
   "defaultVisibility": false,
   "subLayerIds": null,
   "minScale": 0,
   "maxScale": 0,
   "type": "Feature Layer",
   "geometryType": "esriGeometryPolygon",
   "supportsDynamicLegends": true
  },
  {
   "id": 3,
   "name": "Image",
   "parentLayerId": 0,
   "defaultVisibility": true,
   "subLayerIds": null,
   "minScale": 0,
   "maxScale": 0,
   "type": "Raster Layer",
   "supportsDynamicLegends": true
  }
 ],
 "tables": [],
 "spatialReference": {
  "wkid": 102100,
  "latestWkid": 3857,
  "xyTolerance": 0.001,
  "zTolerance": 0.001,
  "mTolerance": 0.001,
  "falseX": -20037700,
  "falseY": -30241100,
  "xyUnits": 10000,
  "falseZ": -100000,
  "zUnits": 10000,
  "falseM": -100000,
  "mUnits": 10000
 },
 "singleFusedMapCache": true,
 "tileInfo": {
  "rows": 256,
  "cols": 256,
  "dpi": 96,
  "format": "MIXED",
  "compressionQuality": 75,
  "origin": {
   "x": -2.0037508342787E7,
   "y": 2.0037508342787E7
  },
  "spatialReference": {
   "wkid": 102100,
   "latestWkid": 3857,
   "xyTolerance": 0.001,
   "zTolerance": 0.001,
   "mTolerance": 0.001,
   "falseX": -20037700,
   "falseY": -30241100,
   "xyUnits": 1.4892314192838538E8,
   "falseZ": -100000,
   "zUnits": 10000,
   "falseM": -100000,
   "mUnits": 10000
  },
  "lods": [
   {
    "level": 0,
    "resolution": 611.4962262813797,
    "scale": 2311162.217155
   },
   {
    "level": 1,
    "resolution": 305.74811314055756,
    "scale": 1155581.108577
   },
   {
    "level": 2,
    "resolution": 152.87405657041106,
    "scale": 577790.554289
   },
   {
    "level": 3,
    "resolution": 76.43702828507324,
    "scale": 288895.277144
   },
   {
    "level": 4,
    "resolution": 38.21851414253662,
    "scale": 144447.638572
   },
   {
    "level": 5,
    "resolution": 19.10925707126831,
    "scale": 72223.819286
   },
   {
    "level": 6,
    "resolution": 9.554628535634155,
    "scale": 36111.909643
   },
   {
    "level": 7,
    "resolution": 4.77731426794937,
    "scale": 18055.954822
   },
   {
    "level": 8,
    "resolution": 2.388657133974685,
    "scale": 9027.977411
   },
   {
    "level": 9,
    "resolution": 1.1943285668550503,
    "scale": 4513.988705
   },
   {
    "level": 10,
    "resolution": 0.5971642835598172,
    "scale": 2256.994353
   },
   {
    "level": 11,
    "resolution": 0.29858214164761665,
    "scale": 1128.497176
   }
  ]
 },
 "storageInfo": {
  "storageFormat": "esriMapCacheStorageModeCompactV2",
  "packetSize": 128
 },
 "initialExtent": {
  "xmin": -9500674.553281026,
  "ymin": 4115016.4267235794,
  "xmax": -8351351.344805931,
  "ymax": 5303620.301817444,
  "spatialReference": {
   "cs": "pcs",
   "wkid": 102100
  }
 },
 "fullExtent": {
  "xmin": -9299454.537423722,
  "ymin": 4495313.083000513,
  "xmax": -8552571.360663235,
  "ymax": 4923323.645540512,
  "spatialReference": {
   "cs": "pcs",
   "wkid": 102100
  }
 },
 "datesInUnknownTimezone": false,
 "minScale": 2311162.217155,
 "maxScale": 1128.497176,
 "units": "esriMeters",
 "supportedImageFormatTypes": "PNG32,PNG24,PNG,JPG,DIB,TIFF,EMF,PS,PDF,GIF,SVG,SVGZ,BMP",
 "documentInfo": {
  "Title": "wv_imagery_NAIP_2014_1m",
  "Author": "",
  "Comments": "The National Agriculture Imagery Program (NAIP) acquires aerial imagery during the agricultural growing seasons in the continental U.S. A primary goal of the NAIP program is to make digital ortho photography available to governmental agencies and the public within a year of acquisition. This four-band imagery was collected in late 2014, and was originally published in December of 2014 . It was made available from the West Virginia GIS Tech Center in February of 2015. \n\nAll data was delivered with 1-meter Ground Sample Distance (GSD). The imagery is rectified to a horizontal accuracy of within +/- 5 meters of reference digital ortho quarter quads from the National Digital Ortho Program. \n\nThe dataset can be downloaded by digital orthophoto quarter quads (DOQQ) and counties. DOQQs are available in .sid and .jp2 format. MrSid format data is compressed ratio of 10:1 . Files range from 13 to 16 MB. MrSid format images are 3 band and, as a result a separate dataset for color infrared and natural color was created. Additionally, JPEG 2000 format 4 band imagery is available. These files range from 20-25 MB. County mosaics can be downloaded in natural color .sid format. These files are approximately 600 MB each\n\nUncompressed 4 band .tif files are available as well, but due to the size (~320 GB) of this dataset, interested parties will need to provide a hard drive to the WVGISTC. There is a small fee associated with this service. Contact Frank Lafone for more information.\nhttp://wvgis.wvu.edu/data/dataset.php?ID=469",
  "Subject": "WV's NAIP 2014 1m resolution imagery",
  "Category": "",
  "Version": "3.0.0",
  "AntialiasingMode": "Fast",
  "TextAntialiasingMode": "Force",
  "Keywords": "wv,imagery,naip"
 },
 "capabilities": "Map,Query,Data",
 "supportedQueryFormats": "JSON, geoJSON, PBF",
 "exportTilesAllowed": false,
 "referenceScale": 0.0,
 "datumTransformations": [
  {
   "geoTransforms": [
    {
     "wkid": 108001,
     "latestWkid": 1241,
     "transformForward": true,
     "name": "NAD_1927_To_NAD_1983_NADCON"
    }
   ]
  },
  {
   "geoTransforms": [
    {
     "wkid": 108001,
     "latestWkid": 1241,
     "transformForward": false,
     "name": "NAD_1927_To_NAD_1983_NADCON"
    }
   ]
  }
 ],
 "supportsDatumTransformation": true,
 "archivingInfo": {
  "supportsHistoricMoment": false
 },
 "supportsClipping": true,
 "supportsSpatialFilter": true,
 "supportsTimeRelation": true,
 "supportsQueryDataElements": true,
 "mapUnits": {
  "uwkid": 9001
 },
 "maxRecordCount": 2000,
 "maxImageHeight": 4096,
 "maxImageWidth": 4096,
 "supportedExtensions": "KmlServer, WMSServer",
 "resampling": false
}
