<?xml version="1.0" encoding="UTF-8" standalone="no"?>
<metadata xml:lang="en">
<Esri>
<CreaDate>20211007</CreaDate>
<CreaTime>21574500</CreaTime>
<ArcGISFormat>1.0</ArcGISFormat>
<SyncOnce>FALSE</SyncOnce>
<DataProperties>
<itemProps>
<itemName Sync="TRUE">DEM_Mosaic_WV_Statewide_1-to-3-m_UTM17_p2021.tif</itemName>
<itemLocation>
<linkage Sync="TRUE">file://D:\2018SouthCentralLiDAR\statewide\DEM_Mosaic_WV_Statewide_1-to-3-m_UTM17_p2021.tif</linkage>
<protocol Sync="TRUE">Local Area Network</protocol>
</itemLocation>
<imsContentType Sync="TRUE" export="False">002</imsContentType>
<nativeExtBox>
<westBL Sync="TRUE">355669.000109</westBL>
<eastBL Sync="TRUE">785627.000109</eastBL>
<southBL Sync="TRUE">4115999.999969</southBL>
<northBL Sync="TRUE">4500000.999969</northBL>
<exTypeCode Sync="TRUE">1</exTypeCode>
</nativeExtBox>
</itemProps>
<coordRef>
<type Sync="TRUE">Projected</type>
<geogcsn Sync="TRUE">GCS_North_American_1983</geogcsn>
<csUnits Sync="TRUE">Linear Unit: Meter (1.000000)</csUnits>
<projcsn Sync="TRUE">NAD_1983_UTM_Zone_17N</projcsn>
<peXml Sync="TRUE">&lt;ProjectedCoordinateSystem xsi:type='typens:ProjectedCoordinateSystem' xmlns:xsi='http://www.w3.org/2001/XMLSchema-instance' xmlns:xs='http://www.w3.org/2001/XMLSchema' xmlns:typens='http://www.esri.com/schemas/ArcGIS/2.8.0'&gt;&lt;WKT&gt;PROJCS[&amp;quot;NAD_1983_UTM_Zone_17N&amp;quot;,GEOGCS[&amp;quot;GCS_North_American_1983&amp;quot;,DATUM[&amp;quot;D_North_American_1983&amp;quot;,SPHEROID[&amp;quot;GRS_1980&amp;quot;,6378137.0,298.257222101]],PRIMEM[&amp;quot;Greenwich&amp;quot;,0.0],UNIT[&amp;quot;Degree&amp;quot;,0.0174532925199433]],PROJECTION[&amp;quot;Transverse_Mercator&amp;quot;],PARAMETER[&amp;quot;False_Easting&amp;quot;,500000.0],PARAMETER[&amp;quot;False_Northing&amp;quot;,0.0],PARAMETER[&amp;quot;Central_Meridian&amp;quot;,-81.0],PARAMETER[&amp;quot;Scale_Factor&amp;quot;,0.9996],PARAMETER[&amp;quot;Latitude_Of_Origin&amp;quot;,0.0],UNIT[&amp;quot;Meter&amp;quot;,1.0],AUTHORITY[&amp;quot;EPSG&amp;quot;,26917]]&lt;/WKT&gt;&lt;XOrigin&gt;-5120900&lt;/XOrigin&gt;&lt;YOrigin&gt;-9998100&lt;/YOrigin&gt;&lt;XYScale&gt;450445547.3910538&lt;/XYScale&gt;&lt;ZOrigin&gt;-100000&lt;/ZOrigin&gt;&lt;ZScale&gt;10000&lt;/ZScale&gt;&lt;MOrigin&gt;-100000&lt;/MOrigin&gt;&lt;MScale&gt;10000&lt;/MScale&gt;&lt;XYTolerance&gt;0.001&lt;/XYTolerance&gt;&lt;ZTolerance&gt;0.001&lt;/ZTolerance&gt;&lt;MTolerance&gt;0.001&lt;/MTolerance&gt;&lt;HighPrecision&gt;true&lt;/HighPrecision&gt;&lt;WKID&gt;26917&lt;/WKID&gt;&lt;LatestWKID&gt;26917&lt;/LatestWKID&gt;&lt;/ProjectedCoordinateSystem&gt;</peXml>
</coordRef>
<RasterProperties>
<General>
<PixelDepth Sync="TRUE">32</PixelDepth>
<HasColormap Sync="TRUE">FALSE</HasColormap>
<CompressionType Sync="TRUE">LZW</CompressionType>
<NumBands Sync="TRUE">1</NumBands>
<Format Sync="TRUE">TIFF</Format>
<HasPyramids Sync="TRUE">TRUE</HasPyramids>
<SourceType Sync="TRUE">continuous</SourceType>
<PixelType Sync="TRUE">floating point</PixelType>
<NoDataValue Sync="TRUE">3.4e+38</NoDataValue>
</General>
</RasterProperties>
<lineage>
<Process Date="20211007" Name="" Time="215745" ToolSource="c:\program files\arcgis\pro\Resources\ArcToolbox\toolboxes\Data Management Tools.tbx\MosaicToNewRaster" export="">MosaicToNewRaster DEM_Mosaic_FEMA_2012_WV_EPAN_1m_UTM17.img;DEM_Mosaic_FEMA_2016_WV_East_1m_UTM17.img;DEM_Mosaic_FEMA_2016_WV-East_ElkRiver_1m_UTM17.tif;DEM_Mosaic_FEMA_2016-17_WV-NE_1m_UTM17.tif;DEM_FEMA_2016-17_WV_Southwest_1m_UTM17.tif;DEM_Mosaic_FEMA_2017_Mercer_WV_1m_UTM17.tif;DEM_Mosaic_FEMA_2018_WV_West_1m_UTM17.tif;DEM_Mosaic_FEMA_2018_Wirt_Roane_WV_1m_UTM17.tif;DEM_Mosaic_FEMA_2018_Tucker_Randolph_WV_1m_UTM17.tif;DEM_Mosaic_FEMA_2018_Mason_Putnam_WV_1m_UTM17.tif;FEMA_2018-20_SouthCentral_WV_UTM17.tif D:\2018SouthCentralLiDAR\statewide DEM_Mosaic_WV_Statewide_1-to-3-m_UTM17_p2021.tif PROJCS["NAD_1983_UTM_Zone_17N",GEOGCS["GCS_North_American_1983",DATUM["D_North_American_1983",SPHEROID["GRS_1980",6378137.0,298.257222101]],PRIMEM["Greenwich",0.0],UNIT["Degree",0.0174532925199433]],PROJECTION["Transverse_Mercator"],PARAMETER["False_Easting",500000.0],PARAMETER["False_Northing",0.0],PARAMETER["Central_Meridian",-81.0],PARAMETER["Scale_Factor",0.9996],PARAMETER["Latitude_Of_Origin",0.0],UNIT["Meter",1.0]] "32 bit float" 1 1 Last First</Process>
<Process Date="20211011" Name="" Time="153904" ToolSource="c:\program files\arcgis\pro\Resources\ArcToolbox\toolboxes\Data Management Tools.tbx\Rename" export="">Rename D:\2018SouthCentralLiDAR\statewide\DEM_Mosaic_WV_Statewide_1-to-3-m_UTM17_p2021.tif D:\2018SouthCentralLiDAR\statewide\DEM_Mosaic_WV_Statewide_1m_UTM17_p2021.tif RasterDataset</Process>
</lineage>
</DataProperties>
<SyncDate>20211007</SyncDate>
<SyncTime>21574500</SyncTime>
<ModDate>20211109</ModDate>
<ModTime>15355000</ModTime>
<scaleRange>
<minScale>625000</minScale>
<maxScale>5000</maxScale>
</scaleRange>
<ArcGISProfile>ISO19139</ArcGISProfile>
</Esri>
<dataIdInfo>
<envirDesc Sync="TRUE">Microsoft Windows 10 Version 10.0 (Build 19042) ; Esri ArcGIS 12.8.3.29751</envirDesc>
<dataLang>
<languageCode Sync="TRUE" value="eng"/>
<countryCode Sync="TRUE" value="USA"/>
</dataLang>
<idCitation>
<resTitle Sync="FALSE">wv_DEM_1m_mosaic</resTitle>
<presForm>
<PresFormCd Sync="FALSE" value="007"/>
<fgdcGeoform>raster digital data</fgdcGeoform>
</presForm>
<date>
<createDate>2021-10-11T00:00:00</createDate>
</date>
</idCitation>
<spatRpType>
<SpatRepTypCd Sync="TRUE" value="002"/>
</spatRpType>
<dataExt>
<geoEle>
<GeoBndBox esriExtentType="search">
<exTypeCode Sync="TRUE">1</exTypeCode>
<westBL Sync="TRUE">-82.706815</westBL>
<eastBL Sync="TRUE">-77.624336</eastBL>
<northBL Sync="TRUE">40.650866</northBL>
<southBL Sync="TRUE">37.146792</southBL>
</GeoBndBox>
</geoEle>
</dataExt>
<idPurp>The 1-meter lidar-based digital elevation model provides a high-resolution, accurate ground elevation base map reference for MapWV.gov web map applications. This raster dataset is also available as a web map service for GIS users.</idPurp>
<idAbs>&lt;DIV STYLE="text-align:Left;"&gt;&lt;DIV&gt;&lt;DIV&gt;&lt;P&gt;&lt;SPAN&gt;The WV GIS Technical Center compiled a statewide mosaic of lidar-based 1-meter digital elevation models (DEM). All data are sourced from regional lidar-based DEM data sets. A table of source product specifications and a graphic depicting the footprints of the various sources is viewable &amp;lt;a href="https://www.mapwv.gov/floodtest/docs/WV_FloodTool_ElevationSource_Metadata.pdf"&amp;gt;&amp;lt;b&amp;gt;&amp;lt;u&amp;gt;here&amp;lt;/u&amp;gt;&amp;lt;/b&amp;gt;&amp;lt;/a&amp;gt;&lt;/SPAN&gt;&lt;/P&gt;&lt;P&gt;&lt;SPAN /&gt;&lt;/P&gt;&lt;P&gt;&lt;SPAN&gt;During the mosaic creation, the highest resolution DEM is preserved or prioritized over lower resolution DEM elevation sources.&lt;/SPAN&gt;&lt;/P&gt;&lt;P&gt;&lt;SPAN /&gt;&lt;/P&gt;&lt;P&gt;&lt;SPAN&gt;This DEM mosaic provides ground elevation values in the WV Flood Tool and is available as a GIS layer service.&lt;/SPAN&gt;&lt;/P&gt;&lt;/DIV&gt;&lt;/DIV&gt;&lt;/DIV&gt;</idAbs>
<searchKeys>
<keyword>DEM</keyword>
<keyword>digital elevation model</keyword>
<keyword>terrain</keyword>
<keyword>topography</keyword>
<keyword>lidar</keyword>
</searchKeys>
<idCredit>FEMA, USGS, WVGISTC, WV counties</idCredit>
<themeKeys>
<keyword>lidar, DEM, digital elevation model, terrain, topography, topo</keyword>
</themeKeys>
<tpCat>
<TopicCatCd value="006"/>
</tpCat>
<resConst>
<Consts>
<useLimit/>
</Consts>
</resConst>
</dataIdInfo>
<mdLang>
<languageCode Sync="TRUE" value="eng"/>
<countryCode Sync="TRUE" value="USA"/>
</mdLang>
<mdChar>
<CharSetCd Sync="TRUE" value="004"/>
</mdChar>
<distInfo>
<distFormat>
<formatName Sync="TRUE">Raster Dataset</formatName>
<formatVer>ArcGIS Pro 2.x</formatVer>
</distFormat>
</distInfo>
<mdHrLv>
<ScopeCd Sync="TRUE" value="005"/>
</mdHrLv>
<mdHrLvName Sync="TRUE">dataset</mdHrLvName>
<refSysInfo>
<RefSystem>
<refSysID>
<identCode Sync="TRUE" code="26917"/>
<idCodeSpace Sync="TRUE">EPSG</idCodeSpace>
<idVersion Sync="TRUE">6.11(3.0.1)</idVersion>
</refSysID>
</RefSystem>
</refSysInfo>
<spatRepInfo>
<Georect>
<cellGeo>
<CellGeoCd Sync="TRUE" value="002"/>
</cellGeo>
<numDims Sync="TRUE">2</numDims>
<tranParaAv Sync="TRUE">1</tranParaAv>
<chkPtAv Sync="TRUE">0</chkPtAv>
<cornerPts>
<pos Sync="TRUE">355669.000109 4115999.999969</pos>
</cornerPts>
<cornerPts>
<pos Sync="TRUE">355669.000109 4500000.999969</pos>
</cornerPts>
<cornerPts>
<pos Sync="TRUE">785627.000109 4500000.999969</pos>
</cornerPts>
<cornerPts>
<pos Sync="TRUE">785627.000109 4115999.999969</pos>
</cornerPts>
<centerPt>
<pos Sync="TRUE">570648.000109 4308000.499969</pos>
</centerPt>
<axisDimension type="002">
<dimSize Sync="TRUE">429958</dimSize>
<dimResol>
<value Sync="TRUE" uom="m">1.000000</value>
</dimResol>
</axisDimension>
<axisDimension type="001">
<dimSize Sync="TRUE">384001</dimSize>
<dimResol>
<value Sync="TRUE" uom="m">1.000000</value>
</dimResol>
</axisDimension>
<ptInPixel>
<PixOrientCd Sync="TRUE" value="001"/>
</ptInPixel>
</Georect>
</spatRepInfo>
<contInfo>
<ImgDesc>
<contentTyp>
<ContentTypCd Sync="TRUE" value="002"/>
</contentTyp>
<covDim>
<Band>
<dimDescrp Sync="TRUE">Band_1</dimDescrp>
<maxVal Sync="TRUE">1482.828979</maxVal>
<minVal Sync="TRUE">37.853970</minVal>
<bitsPerVal Sync="TRUE">32</bitsPerVal>
<valUnit>
<UOM gmlID="" type="length">
<unitSymbol>[ft_us]</unitSymbol>
</UOM>
</valUnit>
</Band>
</covDim>
<attDesc>This raster depicts the ground elevation at each pixel.</attDesc>
<trianInd>False</trianInd>
<radCalDatAv>False</radCalDatAv>
<camCalInAv>False</camCalInAv>
<filmDistInAv>False</filmDistInAv>
<lensDistInAv>False</lensDistInAv>
</ImgDesc>
</contInfo>
<mdDateSt Sync="TRUE">20211109</mdDateSt>
<mdContact>
<rpIndName>Kurt Donaldson</rpIndName>
<rpOrgName>WV Univ GIS Technical Center</rpOrgName>
<rpPosName>GIS Project Manager</rpPosName>
<role>
<RoleCd value="008"/>
</role>
</mdContact>
</metadata>
