{
 "currentVersion": 11.4,
 "serviceDescription": "Hazards/WSEL_01PCT_AFH_Composite_1m_UTM83",
 "name": "Hazards/WSEL_01PCT_AFH_Composite_1m_UTM83",
 "description": "",
 "extent": {
  "xmin": 400651.12496609305,
  "ymin": 4141904.470375927,
  "xmax": 782199.1249660931,
  "ymax": 4491965.470375927,
  "spatialReference": {
   "wkid": 26917,
   "latestWkid": 26917,
   "vcsWkid": 105703,
   "latestVcsWkid": 6360
  }
 },
 "initialExtent": {
  "xmin": 400651.12496609305,
  "ymin": 4141904.470375927,
  "xmax": 782199.1249660931,
  "ymax": 4491965.470375927,
  "spatialReference": {
   "wkid": 26917,
   "latestWkid": 26917,
   "vcsWkid": 105703,
   "latestVcsWkid": 6360
  }
 },
 "fullExtent": {
  "xmin": 400651.12496609305,
  "ymin": 4141904.470375927,
  "xmax": 782199.1249660931,
  "ymax": 4491965.470375927,
  "spatialReference": {
   "wkid": 26917,
   "latestWkid": 26917,
   "vcsWkid": 105703,
   "latestVcsWkid": 6360
  }
 },
 "sortableFields": "",
 "heightModelInfo": {
  "heightModel": "gravity_related_height",
  "vertCRS": "NAVD88_height_(ftUS)",
  "heightUnit": "us-foot"
 },
 "bandCount": 1,
 "pixelType": "F32",
 "minValues": [
  279.8999938964844
 ],
 "maxValues": [
  6568
 ],
 "meanValues": [
  1351.539670945245
 ],
 "stdvValues": [
  747.9957535683101
 ],
 "hasMultidimensions": false,
 "pixelSizeX": 1.0000000000000002,
 "pixelSizeY": 1,
 "meanPixelSize": 1,
 "datasetFormat": "FGDBR",
 "uncompressedSize": 534260297712,
 "blockWidth": 128,
 "blockHeight": 128,
 "compressionType": "LZ77",
 "bandNames": [
  "Band_1"
 ],
 "allowCopy": true,
 "allowAnalysis": true,
 "itemAccess": false,
 "inspectionCapabilities": "",
 "minPixelSize": 0,
 "maxPixelSize": 0,
 "copyrightText": "",
 "serviceDataType": "esriImageServiceDataTypeGeneric",
 "serviceSourceType": "esriImageServiceSourceTypeDataset",
 "objectIdField": "",
 "fields": [],
 "capabilities": "Image,Metadata,Mensuration",
 "defaultMosaicMethod": "Center",
 "allowedMosaicMethods": "",
 "sortField": "",
 "sortValue": null,
 "sortAscending": true,
 "mosaicOperator": "First",
 "defaultCompressionQuality": 75,
 "defaultResamplingMethod": "Bilinear",
 "maxImageHeight": 4100,
 "maxImageWidth": 15000,
 "allowRasterFunction": true,
 "rasterFunctionInfos": [
  {
   "name": "None",
   "description": "",
   "help": ""
  }
 ],
 "rasterTypeInfos": [
  {
   "name": "Raster Dataset",
   "description": "Supports all ArcGIS Raster Datasets",
   "help": ""
  }
 ],
 "mensurationCapabilities": "Basic",
 "hasHistograms": true,
 "hasColormap": false,
 "hasRasterAttributeTable": false,
 "minScale": 0,
 "maxScale": 0,
 "exportTilesAllowed": false,
 "supportsStatistics": false,
 "supportsAdvancedQueries": false,
 "editFieldsInfo": null,
 "ownershipBasedAccessControlForRasters": null,
 "allowComputeTiePoints": false,
 "useStandardizedQueries": true,
 "advancedQueryCapabilities": {
  "useStandardizedQueries": true,
  "supportsStatistics": false,
  "supportsOrderBy": false,
  "supportsDistinct": false,
  "supportsPagination": false
 },
 "spatialReference": {
  "wkid": 26917,
  "latestWkid": 26917,
  "vcsWkid": 105703,
  "latestVcsWkid": 6360
 }
}
