View In:
ArcGIS JavaScript
ArcGIS Online Map Viewer
ArcGIS Earth
Service Description: Hazards/Depth_01PCT_Hazus_Statewide_8m_UTM83
Name: Hazards/Depth_01PCT_Hazus_Statewide_8m_UTM83
Description:
Single Fused Map Cache: false
Extent:
XMin: 355933.01274280314
YMin: 4136189.658498149
XMax: 755623.9671930026
YMax: 4498784.106716452
Spatial Reference: 26917
(26917)
LatestVCSWkid(0)
Initial Extent:
XMin: 355933.01274280314
YMin: 4136189.658498149
XMax: 755623.9671930026
YMax: 4498784.106716452
Spatial Reference: 26917
(26917)
LatestVCSWkid(0)
Full Extent:
XMin: 355933.01274280314
YMin: 4136189.658498149
XMax: 755623.9671930026
YMax: 4498784.106716452
Spatial Reference: 26917
(26917)
LatestVCSWkid(0)
Pixel Size X: 8.100256458873588
Pixel Size Y: 8.100316069483798
Band Count: 1
Pixel Type: S8
RasterFunction Infos: {"rasterFunctionInfos": [{
"name": "None",
"description": "",
"help": ""
}]}
Mensuration Capabilities: Basic
Inspection Capabilities:
Has Histograms: true
Has Colormap: false
Has Multi Dimensions : false
Rendering Rule:
Min Scale: 0
Max Scale: 0
Copyright Text:
Service Data Type: esriImageServiceDataTypeGeneric
Min Values: 0
Max Values: 90
Mean Values: 7.744436675510481
Standard Deviation Values: 6.275537224939613
Object ID Field:
Fields:
None
Default Mosaic Method: Center
Allowed Mosaic Methods:
SortField:
SortValue: null
Mosaic Operator: First
Default Compression Quality: 75
Default Resampling Method: Bilinear
Max Record Count: null
Max Image Height: 4100
Max Image Width: 15000
Max Download Image Count: null
Max Mosaic Image Count: null
Allow Raster Function: true
Allow Copy: true
Allow Analysis: true
Allow Compute TiePoints: false
Supports Statistics: false
Supports Advanced Queries: false
Use StandardizedQueries: true
Raster Type Infos:
Name: Raster Dataset
Description: Supports all ArcGIS Raster Datasets
Help:
Has Raster Attribute Table: true
Edit Fields Info: null
Ownership Based AccessControl For Rasters: null
Child Resources:
Info
Raster Attribute Table
Histograms
Statistics
Key Properties
Legend
Raster Function Infos
Supported Operations:
Export Image
Identify
Measure
Compute Histograms
Compute Statistics Histograms
Get Samples
Compute Class Statistics
Query Boundary
Compute Pixel Location
Compute Angles
Validate
Project