View In:
ArcGIS JavaScript
ArcGIS Online Map Viewer
ArcGIS Earth
Service Description: Hazards/WSEL_01PCT_AFH_Composite_1m_UTM83
Name: Hazards/WSEL_01PCT_AFH_Composite_1m_UTM83
Description:
Single Fused Map Cache: false
Extent:
XMin: 359598.12496609305
YMin: 4117616.470375927
XMax: 782199.1249660931
YMax: 4491965.470375927
Spatial Reference: 26917
(26917)
VCSWkid(105703)
LatestVCSWkid(6360)
Initial Extent:
XMin: 359598.12496609305
YMin: 4117616.470375927
XMax: 782199.1249660931
YMax: 4491965.470375927
Spatial Reference: 26917
(26917)
VCSWkid(105703)
LatestVCSWkid(6360)
Full Extent:
XMin: 359598.12496609305
YMin: 4117616.470375927
XMax: 782199.1249660931
YMax: 4491965.470375927
Spatial Reference: 26917
(26917)
VCSWkid(105703)
LatestVCSWkid(6360)
Pixel Size X: 1.0000000000000002
Pixel Size Y: 1.0
Band Count: 1
Pixel Type: F32
RasterFunction Infos: {"rasterFunctionInfos": [{
"name": "None",
"description": "",
"help": ""
}]}
Mensuration Capabilities: Basic
Inspection Capabilities:
Has Histograms: true
Has Colormap: false
Has Multi Dimensions : false
Rendering Rule:
Min Scale: 0
Max Scale: 0
Copyright Text:
Service Data Type: esriImageServiceDataTypeGeneric
Min Values: 279.8999938964844
Max Values: 6568
Mean Values: 1327.6121065877867
Standard Deviation Values: 742.8323894212907
Object ID Field:
Fields:
None
Default Mosaic Method: Center
Allowed Mosaic Methods:
SortField:
SortValue: null
Mosaic Operator: First
Default Compression Quality: 75
Default Resampling Method: Bilinear
Max Record Count: null
Max Image Height: 4100
Max Image Width: 15000
Max Download Image Count: null
Max Mosaic Image Count: null
Allow Raster Function: true
Allow Copy: true
Allow Analysis: true
Allow Compute TiePoints: false
Supports Statistics: false
Supports Advanced Queries: false
Use StandardizedQueries: true
Raster Type Infos:
Name: Raster Dataset
Description: Supports all ArcGIS Raster Datasets
Help:
Has Raster Attribute Table: false
Edit Fields Info: null
Ownership Based AccessControl For Rasters: null
Child Resources:
Info
Histograms
Statistics
Key Properties
Legend
Raster Function Infos
Supported Operations:
Export Image
Identify
Measure
Compute Histograms
Compute Statistics Histograms
Get Samples
Compute Class Statistics
Query Boundary
Compute Pixel Location
Compute Angles
Validate
Project