View In:
ArcGIS JavaScript
ArcGIS Online Map Viewer
ArcGIS Earth
Service Description: Hazards/WSEL_01PCT_Restudy_Draft_BFE_P_Composite_1m_UTM83
Name: Hazards/WSEL_01PCT_Restudy_Draft_BFE_P_Composite_1m_UTM83
Description:
Single Fused Map Cache: false
Extent:
XMin: 355936.47642692534
YMin: 4117433.845690592
XMax: 782837.4764269253
YMax: 4431487.845690592
Spatial Reference: 26917
(26917)
LatestVCSWkid(0)
Initial Extent:
XMin: 355936.47642692534
YMin: 4117433.845690592
XMax: 782837.4764269253
YMax: 4431487.845690592
Spatial Reference: 26917
(26917)
LatestVCSWkid(0)
Full Extent:
XMin: 355936.47642692534
YMin: 4117433.845690592
XMax: 782837.4764269253
YMax: 4431487.845690592
Spatial Reference: 26917
(26917)
LatestVCSWkid(0)
Pixel Size X: 0.9999999999999999
Pixel Size Y: 1.0
Band Count: 1
Pixel Type: F32
RasterFunction Infos: {"rasterFunctionInfos": [{
"name": "None",
"description": "",
"help": ""
}]}
Mensuration Capabilities: Basic
Inspection Capabilities:
Has Histograms: true
Has Colormap: false
Has Multi Dimensions : false
Rendering Rule:
Min Scale: 0
Max Scale: 0
Copyright Text:
Service Data Type: esriImageServiceDataTypeGeneric
Min Values: 278.79998779296875
Max Values: 4073.89990234375
Mean Values: 1078.7335939913942
Standard Deviation Values: 707.9244009899031
Object ID Field:
Fields:
None
Default Mosaic Method: Center
Allowed Mosaic Methods:
SortField:
SortValue: null
Mosaic Operator: First
Default Compression Quality: 75
Default Resampling Method: Bilinear
Max Record Count: null
Max Image Height: 4100
Max Image Width: 15000
Max Download Image Count: null
Max Mosaic Image Count: null
Allow Raster Function: true
Allow Copy: true
Allow Analysis: true
Allow Compute TiePoints: false
Supports Statistics: false
Supports Advanced Queries: false
Use StandardizedQueries: true
Raster Type Infos:
Name: Raster Dataset
Description: Supports all ArcGIS Raster Datasets
Help:
Has Raster Attribute Table: false
Edit Fields Info: null
Ownership Based AccessControl For Rasters: null
Child Resources:
Info
Histograms
Statistics
Key Properties
Legend
Raster Function Infos
Supported Operations:
Export Image
Identify
Measure
Compute Histograms
Compute Statistics Histograms
Get Samples
Compute Class Statistics
Query Boundary
Compute Pixel Location
Compute Angles
Validate
Project