View In:
ArcGIS JavaScript
ArcGIS Online Map Viewer
ArcGIS Earth
Service Description: Hazards/WSEL_01PCT_Restudy_Effective_BFE_Composite_1m_UTM83
Name: Hazards/WSEL_01PCT_Restudy_Effective_BFE_Composite_1m_UTM83
Description:
Single Fused Map Cache: false
Extent:
XMin: 447166.0001220703
YMin: 4138605.0001220703
XMax: 666635.0001220703
YMax: 4399706.00012207
Spatial Reference: 26917
(26917)
VCSWkid(105703)
LatestVCSWkid(6360)
Initial Extent:
XMin: 447166.0001220703
YMin: 4138605.0001220703
XMax: 666635.0001220703
YMax: 4399706.00012207
Spatial Reference: 26917
(26917)
VCSWkid(105703)
LatestVCSWkid(6360)
Full Extent:
XMin: 447166.0001220703
YMin: 4138605.0001220703
XMax: 666635.0001220703
YMax: 4399706.00012207
Spatial Reference: 26917
(26917)
VCSWkid(105703)
LatestVCSWkid(6360)
Pixel Size X: 1.0
Pixel Size Y: 1.0
Band Count: 1
Pixel Type: F32
RasterFunction Infos: {"rasterFunctionInfos": [{
"name": "None",
"description": "",
"help": ""
}]}
Mensuration Capabilities: Basic
Inspection Capabilities:
Has Histograms: true
Has Colormap: false
Has Multi Dimensions : false
Rendering Rule:
Min Scale: 0
Max Scale: 0
Copyright Text:
Service Data Type: esriImageServiceDataTypeGeneric
Min Values: 595.2999877929688
Max Values: 3708.337646484375
Mean Values: 1712.1047837912338
Standard Deviation Values: 514.142769044674
Object ID Field:
Fields:
None
Default Mosaic Method: Center
Allowed Mosaic Methods:
SortField:
SortValue: null
Mosaic Operator: First
Default Compression Quality: 75
Default Resampling Method: Bilinear
Max Record Count: null
Max Image Height: 4100
Max Image Width: 15000
Max Download Image Count: null
Max Mosaic Image Count: null
Allow Raster Function: true
Allow Copy: true
Allow Analysis: true
Allow Compute TiePoints: false
Supports Statistics: false
Supports Advanced Queries: false
Use StandardizedQueries: true
Raster Type Infos:
Name: Raster Dataset
Description: Supports all ArcGIS Raster Datasets
Help:
Has Raster Attribute Table: false
Edit Fields Info: null
Ownership Based AccessControl For Rasters: null
Child Resources:
Info
Histograms
Statistics
Key Properties
Legend
Raster Function Infos
Supported Operations:
Export Image
Identify
Measure
Compute Histograms
Compute Statistics Histograms
Get Samples
Compute Class Statistics
Query Boundary
Compute Pixel Location
Compute Angles
Validate
Project