View In:
ArcGIS JavaScript
ArcGIS Online Map Viewer
ArcGIS Earth
ArcGIS Pro
Service Description: FEMA, utilizing Axis Geospatial, LLC (Axis), collected 2,640 square miles of LiDAR data in the West Virginia counties of Mineral, Hampshire, Grant, Hardy and Pendleton. 1ft contours created from lidar-derived bare earth DEM dataset using ArcGIS software. Contours are labeled as intermediate or index with index contours set to every 5th interval. Horizontal accuracy is not performed on the contours. The data was developed based on a horizontal projection/datum of NAD83 UTM Zone 17, meters and vertical datum of NAVD88 (GEOID12B).
http://wvgis.wvu.edu/data/dataset.php?ID=479
Quantum Spatial, Inc collected December 21, 2016 lidar data for several counties in southeast West Virginia, covering approximately 3,485 square miles. The nominal pulse spacing (NPS) for this project is 0.7 meters. These lidar data are processed classified LAS 1.4 files, formatted to 4,320 individual 1,500-meter x 1,500-meter tiles, used to create intensity images, 3D breaklines, 1-meter hydro-flattened DEMs, and contours with an interval of 1-foot. The data was developed based on a horizontal projection/datum of NAD83 UTM Zone 17, meters and vertical datum of NAVD88 (GEOID12B), meters and a vertical accuracy of 6.7 cm.
http://wvgis.wvu.edu/data/dataset.php?ID=474
Map Name: wv_contour_1ft
Legend
All Layers and Tables
Dynamic Legend
Dynamic All Layers
Layers:
Description: FEMA, utilizing Axis Geospatial, LLC (Axis), collected 2,640 square miles of LiDAR data in the West Virginia counties of Mineral, Hampshire, Grant, Hardy and Pendleton. 1ft contours created from lidar-derived bare earth DEM dataset using ArcGIS software. Contours are labeled as intermediate or index with index contours set to every 5th interval. Horizontal accuracy is not performed on the contours. The data was developed based on a horizontal projection/datum of NAD83 UTM Zone 17, meters and vertical datum of NAVD88 (GEOID12B).
http://wvgis.wvu.edu/data/dataset.php?ID=479
Quantum Spatial, Inc collected December 21, 2016 lidar data for several counties in southeast West Virginia, covering approximately 3,485 square miles. The nominal pulse spacing (NPS) for this project is 0.7 meters. These lidar data are processed classified LAS 1.4 files, formatted to 4,320 individual 1,500-meter x 1,500-meter tiles, used to create intensity images, 3D breaklines, 1-meter hydro-flattened DEMs, and contours with an interval of 1-foot. The data was developed based on a horizontal projection/datum of NAD83 UTM Zone 17, meters and vertical datum of NAVD88 (GEOID12B), meters and a vertical accuracy of 6.7 cm.
http://wvgis.wvu.edu/data/dataset.php?ID=474
Copyright Text:
Spatial Reference:
102100
(3857)
LatestVCSWkid(0)
Single Fused Map Cache: true
Tile Info:
- Height: 256
- Width: 256
- DPI: 96
-
Levels of Detail: 24
-
Level ID: 1
[ Start Tile, End Tile ]
- Resolution: 78271.5169639999
- Scale: 2.95828763795777E8
-
Level ID: 2
[ Start Tile, End Tile ]
- Resolution: 39135.7584820001
- Scale: 1.47914381897889E8
-
Level ID: 3
[ Start Tile, End Tile ]
- Resolution: 19567.8792409999
- Scale: 7.3957190948944E7
-
Level ID: 4
[ Start Tile, End Tile ]
- Resolution: 9783.93962049996
- Scale: 3.6978595474472E7
-
Level ID: 5
[ Start Tile, End Tile ]
- Resolution: 4891.96981024998
- Scale: 1.8489297737236E7
- Format: PNG
- Compression Quality: 0.0
- Origin: X: -2.0037508342787E7
Y: 2.0037508342787E7
- Spatial Reference: 102100
(3857)
LatestVCSWkid(0)
Storage Info:
- Storage Format: esriMapCacheStorageModeCompactV2
- Packet Size: 128
Initial Extent:
XMin: -9117413.427635407
YMin: 4555910.017318033
XMax: -9117198.971443648
YMax: 4556030.584441649
Spatial Reference: 102100
(3857)
LatestVCSWkid(0)
Full Extent:
XMin: -9200932.755445788
YMin: 4466913.018094133
XMax: -8719740.901436584
YMax: 4958722.350315818
Spatial Reference: 102100
(3857)
LatestVCSWkid(0)
Units: esriMeters
Supported Image Format Types: PNG32,PNG24,PNG,JPG,DIB,TIFF,EMF,PS,PDF,GIF,SVG,SVGZ,BMP
Document Info:
Title: wv_contour.aprx
Author:
Comments: FEMA, utilizing Axis Geospatial, LLC (Axis), collected 2,640 square miles of LiDAR data in the West Virginia counties of Mineral, Hampshire, Grant, Hardy and Pendleton. 1ft contours created from lidar-derived bare earth DEM dataset using ArcGIS software. Contours are labeled as intermediate or index with index contours set to every 5th interval. Horizontal accuracy is not performed on the contours. The data was developed based on a horizontal projection/datum of NAD83 UTM Zone 17, meters and vertical datum of NAVD88 (GEOID12B).
http://wvgis.wvu.edu/data/dataset.php?ID=479
Quantum Spatial, Inc collected December 21, 2016 lidar data for several counties in southeast West Virginia, covering approximately 3,485 square miles. The nominal pulse spacing (NPS) for this project is 0.7 meters. These lidar data are processed classified LAS 1.4 files, formatted to 4,320 individual 1,500-meter x 1,500-meter tiles, used to create intensity images, 3D breaklines, 1-meter hydro-flattened DEMs, and contours with an interval of 1-foot. The data was developed based on a horizontal projection/datum of NAD83 UTM Zone 17, meters and vertical datum of NAVD88 (GEOID12B), meters and a vertical accuracy of 6.7 cm.
http://wvgis.wvu.edu/data/dataset.php?ID=474
Subject: Elevation Contours (1 Foot) WV
Category:
Keywords: wv,contours,elevation
AntialiasingMode: Fast
TextAntialiasingMode: Force
Supports Dynamic Layers: true
Resampling: false
MaxRecordCount: 2000
MaxSelectionCount: 2000
MaxImageHeight: 4096
MaxImageWidth: 4096
Supported Query Formats: JSON, geoJSON, PBF
Supports Query Data Elements: true
Min Scale: 2311162.217155
Max Scale: 282.124294
Supports Datum Transformation: true
Child Resources:
Info
Dynamic Layer
Supported Operations:
Export Map
Identify
QueryLegends
QueryDomains
Find
Return Updates
Generate KML