View In:
ArcGIS JavaScript
ArcGIS Online Map Viewer
ArcGIS Earth
ArcGIS Pro
Service Description: This is a statewide mosaic of available hillshades. This mosaic was created from resampled elevation data for 1 meter resolution. To view the complete metadat and footprints of products used to create this mosaic, visit the Elevation Source document here. The azimuthangle of the light soure is 0 degrees and the altitude of illumination is 45 degrees above the horizon.
http://wvgis.wvu.edu/data/dataset.php?ID=478
Map Name: wv_hillshade_1m_mosaic
Legend
All Layers and Tables
Dynamic Legend
Dynamic All Layers
Layers:
Description: This is a statewide mosaic of available hillshades. This mosaic was created from resampled elevation data for 1 meter resolution. To view the complete metadat and footprints of products used to create this mosaic, visit the Elevation Source document here. The azimuthangle of the light soure is 0 degrees and the altitude of illumination is 45 degrees above the horizon.
http://wvgis.wvu.edu/data/dataset.php?ID=478
Copyright Text:
Spatial Reference:
102100
(3857)
LatestVCSWkid(0)
Single Fused Map Cache: true
Tile Info:
- Height: 256
- Width: 256
- DPI: 96
-
Levels of Detail: 24
-
Level ID: 0
[ Start Tile, End Tile ]
- Resolution: 156543.03392800014
- Scale: 5.91657527591555E8
-
Level ID: 1
[ Start Tile, End Tile ]
- Resolution: 78271.51696399994
- Scale: 2.95828763795777E8
-
Level ID: 2
[ Start Tile, End Tile ]
- Resolution: 39135.75848200009
- Scale: 1.47914381897889E8
-
Level ID: 3
[ Start Tile, End Tile ]
- Resolution: 19567.87924099992
- Scale: 7.3957190948944E7
-
Level ID: 4
[ Start Tile, End Tile ]
- Resolution: 9783.93962049996
- Scale: 3.6978595474472E7
-
Level ID: 5
[ Start Tile, End Tile ]
- Resolution: 4891.96981024998
- Scale: 1.8489297737236E7
- Format: MIXED
- Compression Quality: 75.0
- Origin: X: -2.0037508342787E7
Y: 2.0037508342787E7
- Spatial Reference: 102100
(3857)
LatestVCSWkid(0)
Storage Info:
- Storage Format: esriMapCacheStorageModeCompactV2
- Packet Size: 128
Initial Extent:
XMin: -9479611.292724308
YMin: 4077235.1555439886
XMax: -8368370.857962898
YMax: 5058730.761165688
Spatial Reference: 102100
(0)
LatestVCSWkid(0)
Full Extent:
XMin: -9206880.548297655
YMin: 4459587.473860143
XMax: -8641101.60238955
YMax: 4960980.003543092
Spatial Reference: 102100
(0)
LatestVCSWkid(0)
Units: esriMeters
Supported Image Format Types: PNG32,PNG24,PNG,JPG,DIB,TIFF,EMF,PS,PDF,GIF,SVG,SVGZ,BMP
Document Info:
Title: wv_hillshade_1m_mosaic
Author:
Comments: This is a statewide mosaic of available hillshades. This mosaic was created from resampled elevation data for 1 meter resolution. To view the complete metadat and footprints of products used to create this mosaic, visit the Elevation Source document here. The azimuthangle of the light soure is 0 degrees and the altitude of illumination is 45 degrees above the horizon.
http://wvgis.wvu.edu/data/dataset.php?ID=478
Subject: WV Statewide Hillshade 1-Meter Mosaic
Category:
Keywords: wv
AntialiasingMode: Fast
TextAntialiasingMode: Force
Supports Dynamic Layers: true
Resampling: false
MaxRecordCount: 2000
MaxSelectionCount: 2000
MaxImageHeight: 4096
MaxImageWidth: 4096
Supported Query Formats: JSON, geoJSON, PBF
Supports Query Data Elements: true
Min Scale: 5.91657527591555E8
Max Scale: 70.5310735
Supports Datum Transformation: true
Child Resources:
Info
Dynamic Layer
Supported Operations:
Export Map
Identify
QueryLegends
QueryDomains
Find
Return Updates